Package: BioNAR Version: 1.9.1 Command: /home/biocbuild/bbs-3.21-bioc/R/bin/R CMD check --install=check:BioNAR.install-out.txt --library=/home/biocbuild/bbs-3.21-bioc/R/site-library --timings BioNAR_1.9.1.tar.gz StartedAt: 2025-02-09 20:27:54 -0500 (Sun, 09 Feb 2025) EndedAt: 2025-02-09 20:35:33 -0500 (Sun, 09 Feb 2025) EllapsedTime: 458.9 seconds RetCode: 0 Status: OK CheckDir: BioNAR.Rcheck Warnings: 0