Package: BioNAR Version: 1.9.1 Command: /home/biocbuild/bbs-3.21-bioc/R/bin/R CMD INSTALL BioNAR StartedAt: 2025-02-09 15:43:00 -0500 (Sun, 09 Feb 2025) EndedAt: 2025-02-09 15:43:24 -0500 (Sun, 09 Feb 2025) EllapsedTime: 24.2 seconds RetCode: 0 Status: OK