Package: BioNAR Version: 1.9.1 Command: rm -rf BioNAR.buildbin-libdir && mkdir BioNAR.buildbin-libdir && E:\biocbuild\bbs-3.21-bioc\R\bin\R.exe CMD INSTALL --build --library=BioNAR.buildbin-libdir BioNAR_1.9.1.tar.gz StartedAt: 2025-02-05 07:32:06 -0500 (Wed, 05 Feb 2025) EndedAt: 2025-02-05 07:33:17 -0500 (Wed, 05 Feb 2025) EllapsedTime: 71.2 seconds RetCode: 0 Status: OK PackageFile: BioNAR_1.9.1.zip PackageFileSize: 3.131 MiB