Package: BioNAR Version: 1.9.1 Command: chmod a+r BioNAR -R && E:\biocbuild\bbs-3.21-bioc\R\bin\R.exe CMD build --keep-empty-dirs --no-resave-data BioNAR StartedAt: 2025-02-09 17:31:37 -0500 (Sun, 09 Feb 2025) EndedAt: 2025-02-09 17:35:26 -0500 (Sun, 09 Feb 2025) EllapsedTime: 228.2 seconds RetCode: 0 Status: OK PackageFile: BioNAR_1.9.1.tar.gz PackageFileSize: 2.622 MiB