Package: BioNERO Version: 1.15.0 Command: rm -rf BioNERO.buildbin-libdir && mkdir BioNERO.buildbin-libdir && /Users/biocbuild/BBS/utils/build-universal.sh BioNERO_1.15.0.tar.gz /Library/Frameworks/R.framework/Resources/bin/R BioNERO.buildbin-libdir StartedAt: 2025-02-09 22:07:34 -0500 (Sun, 09 Feb 2025) EndedAt: 2025-02-09 22:07:50 -0500 (Sun, 09 Feb 2025) EllapsedTime: 16.3 seconds RetCode: 0 Status: OK PackageFile: BioNERO_1.15.0.tgz PackageFileSize: 5.083 MiB