Package: BioNERO Version: 1.15.0 Command: /Library/Frameworks/R.framework/Resources/bin/R CMD INSTALL BioNERO StartedAt: 2025-02-09 15:26:28 -0500 (Sun, 09 Feb 2025) EndedAt: 2025-02-09 15:26:43 -0500 (Sun, 09 Feb 2025) EllapsedTime: 15.0 seconds RetCode: 0 Status: OK