Package: BioNERO Version: 1.15.0 Command: /home/biocbuild/R/R/bin/R CMD check --install=check:BioNERO.install-out.txt --library=/home/biocbuild/R/R/site-library --no-vignettes --timings BioNERO_1.15.0.tar.gz StartedAt: 2025-01-28 03:56:58 -0000 (Tue, 28 Jan 2025) EndedAt: 2025-01-28 08:30:04 -0000 (Tue, 28 Jan 2025) EllapsedTime: 16385.5 seconds RetCode: None Status: TIMEOUT CheckDir: BioNERO.Rcheck Warnings: NA