Package: BioNERO Version: 1.15.0 Command: /home/biocbuild/R/R/bin/R CMD INSTALL BioNERO StartedAt: 2025-01-29 20:31:08 -0000 (Wed, 29 Jan 2025) EndedAt: 2025-01-29 20:31:55 -0000 (Wed, 29 Jan 2025) EllapsedTime: 47.5 seconds RetCode: 0 Status: OK