Package: BioNERO Version: 1.15.0 Command: /Library/Frameworks/R.framework/Resources/bin/R CMD build --keep-empty-dirs --no-resave-data BioNERO StartedAt: 2025-02-03 16:07:17 -0500 (Mon, 03 Feb 2025) EndedAt: 2025-02-03 16:11:58 -0500 (Mon, 03 Feb 2025) EllapsedTime: 280.6 seconds RetCode: 0 Status: OK PackageFile: BioNERO_1.15.0.tar.gz PackageFileSize: 4.904 MiB