Package: BioNERO Version: 1.15.0 Command: /Library/Frameworks/R.framework/Resources/bin/R CMD check --install=check:BioNERO.install-out.txt --library=/Library/Frameworks/R.framework/Resources/library --no-vignettes --timings BioNERO_1.15.0.tar.gz StartedAt: 2025-02-09 19:22:05 -0500 (Sun, 09 Feb 2025) EndedAt: 2025-02-09 19:34:48 -0500 (Sun, 09 Feb 2025) EllapsedTime: 762.8 seconds RetCode: 0 Status: OK CheckDir: BioNERO.Rcheck Warnings: 0