Package: BioNERO Version: 1.15.0 Command: /Library/Frameworks/R.framework/Resources/bin/R CMD INSTALL BioNERO StartedAt: 2025-02-09 15:41:42 -0500 (Sun, 09 Feb 2025) EndedAt: 2025-02-09 15:42:31 -0500 (Sun, 09 Feb 2025) EllapsedTime: 48.6 seconds RetCode: 0 Status: OK