Package: BioNERO Version: 1.15.0 Command: /home/biocbuild/bbs-3.21-bioc/R/bin/R CMD build --keep-empty-dirs --no-resave-data BioNERO StartedAt: 2025-02-03 16:32:36 -0500 (Mon, 03 Feb 2025) EndedAt: 2025-02-03 16:37:27 -0500 (Mon, 03 Feb 2025) EllapsedTime: 291.3 seconds RetCode: 0 Status: OK PackageFile: BioNERO_1.15.0.tar.gz PackageFileSize: 4.793 MiB