Package: BioNERO Version: 1.15.0 Command: /home/biocbuild/bbs-3.21-bioc/R/bin/R CMD INSTALL BioNERO StartedAt: 2025-02-09 15:43:39 -0500 (Sun, 09 Feb 2025) EndedAt: 2025-02-09 15:44:15 -0500 (Sun, 09 Feb 2025) EllapsedTime: 35.7 seconds RetCode: 0 Status: OK