Package: BioNERO Version: 1.15.0 Command: rm -rf BioNERO.buildbin-libdir && mkdir BioNERO.buildbin-libdir && E:\biocbuild\bbs-3.21-bioc\R\bin\R.exe CMD INSTALL --build --library=BioNERO.buildbin-libdir BioNERO_1.15.0.tar.gz StartedAt: 2025-02-10 07:19:24 -0500 (Mon, 10 Feb 2025) EndedAt: 2025-02-10 07:21:01 -0500 (Mon, 10 Feb 2025) EllapsedTime: 97.1 seconds RetCode: 0 Status: OK PackageFile: BioNERO_1.15.0.zip PackageFileSize: 3.885 MiB