Package: BioNERO Version: 1.15.0 Command: chmod a+r BioNERO -R && E:\biocbuild\bbs-3.21-bioc\R\bin\R.exe CMD build --keep-empty-dirs --no-resave-data BioNERO StartedAt: 2025-02-09 17:31:40 -0500 (Sun, 09 Feb 2025) EndedAt: 2025-02-09 17:38:02 -0500 (Sun, 09 Feb 2025) EllapsedTime: 382.5 seconds RetCode: 0 Status: OK PackageFile: BioNERO_1.15.0.tar.gz PackageFileSize: 3.706 MiB