Package: BioNERO Version: 1.15.0 Command: E:\biocbuild\bbs-3.21-bioc\R\bin\R.exe CMD INSTALL BioNERO StartedAt: 2025-02-09 16:49:27 -0500 (Sun, 09 Feb 2025) EndedAt: 2025-02-09 16:50:28 -0500 (Sun, 09 Feb 2025) EllapsedTime: 60.5 seconds RetCode: 0 Status: OK