Package: BioQC Version: 1.35.0 Command: /home/biocbuild/R/R/bin/R CMD check --install=check:BioQC.install-out.txt --library=/home/biocbuild/R/R/site-library --no-vignettes --timings BioQC_1.35.0.tar.gz StartedAt: 2025-01-28 08:29:59 -0000 (Tue, 28 Jan 2025) EndedAt: 2025-01-28 08:47:14 -0000 (Tue, 28 Jan 2025) EllapsedTime: 1034.8 seconds RetCode: 0 Status: OK CheckDir: BioQC.Rcheck Warnings: 0