Package: BioQC Version: 1.35.0 Command: /Library/Frameworks/R.framework/Resources/bin/R CMD INSTALL BioQC StartedAt: 2025-02-09 15:07:44 -0500 (Sun, 09 Feb 2025) EndedAt: 2025-02-09 15:08:09 -0500 (Sun, 09 Feb 2025) EllapsedTime: 25.7 seconds RetCode: 0 Status: OK