Package: BioQC Version: 1.35.0 Command: /home/biocbuild/bbs-3.21-bioc/R/bin/R CMD check --install=check:BioQC.install-out.txt --library=/home/biocbuild/bbs-3.21-bioc/R/site-library --timings BioQC_1.35.0.tar.gz StartedAt: 2025-02-12 20:23:36 -0500 (Wed, 12 Feb 2025) EndedAt: 2025-02-12 20:26:17 -0500 (Wed, 12 Feb 2025) EllapsedTime: 161.2 seconds RetCode: 0 Status: OK CheckDir: BioQC.Rcheck Warnings: 0