Package: BioQC Version: 1.35.0 Command: /home/biocbuild/bbs-3.21-bioc/R/bin/R CMD INSTALL BioQC StartedAt: 2025-02-12 15:12:16 -0500 (Wed, 12 Feb 2025) EndedAt: 2025-02-12 15:12:28 -0500 (Wed, 12 Feb 2025) EllapsedTime: 12.0 seconds RetCode: 0 Status: OK