Package: BioQC Version: 1.35.0 Command: rm -rf BioQC.buildbin-libdir && mkdir BioQC.buildbin-libdir && E:\biocbuild\bbs-3.21-bioc\R\bin\R.exe CMD INSTALL --build --library=BioQC.buildbin-libdir BioQC_1.35.0.tar.gz StartedAt: 2025-02-10 07:19:29 -0500 (Mon, 10 Feb 2025) EndedAt: 2025-02-10 07:20:35 -0500 (Mon, 10 Feb 2025) EllapsedTime: 65.4 seconds RetCode: 0 Status: OK PackageFile: BioQC_1.35.0.zip PackageFileSize: 4.449 MiB