Package: BioQC Version: 1.35.0 Command: chmod a+r BioQC -R && E:\biocbuild\bbs-3.21-bioc\R\bin\R.exe CMD build --keep-empty-dirs --no-resave-data BioQC StartedAt: 2025-02-09 17:31:47 -0500 (Sun, 09 Feb 2025) EndedAt: 2025-02-09 17:35:28 -0500 (Sun, 09 Feb 2025) EllapsedTime: 221.1 seconds RetCode: 0 Status: OK PackageFile: BioQC_1.35.0.tar.gz PackageFileSize: 4.302 MiB