Package: BioQC Version: 1.35.0 Command: E:\biocbuild\bbs-3.21-bioc\R\bin\R.exe CMD check --no-multiarch --install=check:BioQC.install-out.txt --library=E:\biocbuild\bbs-3.21-bioc\R\library --no-vignettes --timings BioQC_1.35.0.tar.gz StartedAt: 2025-02-09 23:07:04 -0500 (Sun, 09 Feb 2025) EndedAt: 2025-02-09 23:08:55 -0500 (Sun, 09 Feb 2025) EllapsedTime: 110.4 seconds RetCode: 0 Status: OK CheckDir: BioQC.Rcheck Warnings: 0