Package: Biobase Version: 2.67.0 Command: rm -rf Biobase.buildbin-libdir && mkdir Biobase.buildbin-libdir && /Users/biocbuild/BBS/utils/build-universal.sh Biobase_2.67.0.tar.gz /Library/Frameworks/R.framework/Resources/bin/R Biobase.buildbin-libdir StartedAt: 2025-02-10 00:43:33 -0500 (Mon, 10 Feb 2025) EndedAt: 2025-02-10 00:43:52 -0500 (Mon, 10 Feb 2025) EllapsedTime: 19.6 seconds RetCode: 0 Status: OK PackageFile: Biobase_2.67.0.tgz PackageFileSize: 2.51 MiB