Package: Biobase Version: 2.67.0 Command: /Library/Frameworks/R.framework/Resources/bin/R CMD INSTALL Biobase StartedAt: 2025-02-09 15:04:23 -0500 (Sun, 09 Feb 2025) EndedAt: 2025-02-09 15:05:05 -0500 (Sun, 09 Feb 2025) EllapsedTime: 41.7 seconds RetCode: 0 Status: OK