Package: BiocBook Version: 1.5.0 Command: /Library/Frameworks/R.framework/Resources/bin/R CMD build --keep-empty-dirs --no-resave-data BiocBook StartedAt: 2025-02-12 15:40:17 -0500 (Wed, 12 Feb 2025) EndedAt: 2025-02-12 15:40:46 -0500 (Wed, 12 Feb 2025) EllapsedTime: 29.3 seconds RetCode: 0 Status: OK PackageFile: BiocBook_1.5.0.tar.gz PackageFileSize: 902.8 KiB