Package: BiocBook Version: 1.5.0 Command: /Library/Frameworks/R.framework/Resources/bin/R CMD check --install=check:BiocBook.install-out.txt --library=/Library/Frameworks/R.framework/Resources/library --no-vignettes --timings BiocBook_1.5.0.tar.gz StartedAt: 2025-02-12 19:09:09 -0500 (Wed, 12 Feb 2025) EndedAt: 2025-02-12 19:11:57 -0500 (Wed, 12 Feb 2025) EllapsedTime: 167.5 seconds RetCode: 0 Status: OK CheckDir: BiocBook.Rcheck Warnings: 0