Package: BiocBook Version: 1.5.0 Command: E:\biocbuild\bbs-3.21-bioc\R\bin\R.exe CMD check --no-multiarch --install=check:BiocBook.install-out.txt --library=E:\biocbuild\bbs-3.21-bioc\R\library --no-vignettes --timings BiocBook_1.5.0.tar.gz StartedAt: 2025-02-04 23:24:08 -0500 (Tue, 04 Feb 2025) EndedAt: 2025-02-04 23:26:24 -0500 (Tue, 04 Feb 2025) EllapsedTime: 136.5 seconds RetCode: 1 Status: ERROR CheckDir: BiocBook.Rcheck Warnings: NA