Package: BiocBook Version: 1.5.0 Command: E:\biocbuild\bbs-3.21-bioc\R\bin\R.exe CMD INSTALL BiocBook StartedAt: 2025-02-09 15:35:12 -0500 (Sun, 09 Feb 2025) EndedAt: 2025-02-09 15:35:43 -0500 (Sun, 09 Feb 2025) EllapsedTime: 31.5 seconds RetCode: 0 Status: OK