Package: BiocGenerics Version: 0.53.6 Command: rm -rf BiocGenerics.buildbin-libdir && mkdir BiocGenerics.buildbin-libdir && /Users/biocbuild/BBS/utils/build-universal.sh BiocGenerics_0.53.6.tar.gz /Library/Frameworks/R.framework/Resources/bin/R BiocGenerics.buildbin-libdir StartedAt: 2025-02-12 22:12:18 -0500 (Wed, 12 Feb 2025) EndedAt: 2025-02-12 22:12:21 -0500 (Wed, 12 Feb 2025) EllapsedTime: 3.1 seconds RetCode: 0 Status: OK PackageFile: BiocGenerics_0.53.6.tgz PackageFileSize: 639.3 KiB