Package: BiocGenerics Version: 0.53.6 Command: /Library/Frameworks/R.framework/Resources/bin/R CMD INSTALL BiocGenerics StartedAt: 2025-02-09 15:01:11 -0500 (Sun, 09 Feb 2025) EndedAt: 2025-02-09 15:01:13 -0500 (Sun, 09 Feb 2025) EllapsedTime: 1.9 seconds RetCode: 0 Status: OK