Package: BiocGenerics Version: 0.53.6 Command: /Library/Frameworks/R.framework/Resources/bin/R CMD build --keep-empty-dirs --no-resave-data BiocGenerics StartedAt: 2025-02-09 16:02:37 -0500 (Sun, 09 Feb 2025) EndedAt: 2025-02-09 16:02:40 -0500 (Sun, 09 Feb 2025) EllapsedTime: 2.3 seconds RetCode: 0 Status: OK PackageFile: BiocGenerics_0.53.6.tar.gz PackageFileSize: 54.62 KiB