Package: BiocGenerics Version: 0.53.6 Command: /Library/Frameworks/R.framework/Resources/bin/R CMD check --install=check:BiocGenerics.install-out.txt --library=/Library/Frameworks/R.framework/Resources/library --no-vignettes --timings BiocGenerics_0.53.6.tar.gz StartedAt: 2025-02-09 19:18:33 -0500 (Sun, 09 Feb 2025) EndedAt: 2025-02-09 19:19:44 -0500 (Sun, 09 Feb 2025) EllapsedTime: 71.5 seconds RetCode: 0 Status: WARNINGS CheckDir: BiocGenerics.Rcheck Warnings: 1