Package: BiocGenerics Version: 0.53.6 Command: /home/biocbuild/bbs-3.21-bioc/R/bin/R CMD build --keep-empty-dirs --no-resave-data BiocGenerics StartedAt: 2025-02-09 16:22:09 -0500 (Sun, 09 Feb 2025) EndedAt: 2025-02-09 16:22:10 -0500 (Sun, 09 Feb 2025) EllapsedTime: 1.0 seconds RetCode: 0 Status: OK PackageFile: BiocGenerics_0.53.6.tar.gz PackageFileSize: 54.62 KiB