Package: BiocGenerics Version: 0.53.6 Command: /home/biocbuild/bbs-3.21-bioc/R/bin/R CMD INSTALL BiocGenerics StartedAt: 2025-02-12 15:11:58 -0500 (Wed, 12 Feb 2025) EndedAt: 2025-02-12 15:12:03 -0500 (Wed, 12 Feb 2025) EllapsedTime: 4.6 seconds RetCode: 0 Status: OK