Package: BiocGenerics Version: 0.53.6 Command: chmod a+r BiocGenerics -R && E:\biocbuild\bbs-3.21-bioc\R\bin\R.exe CMD build --keep-empty-dirs --no-resave-data BiocGenerics StartedAt: 2025-02-12 17:30:51 -0500 (Wed, 12 Feb 2025) EndedAt: 2025-02-12 17:31:00 -0500 (Wed, 12 Feb 2025) EllapsedTime: 9.0 seconds RetCode: 0 Status: OK PackageFile: BiocGenerics_0.53.6.tar.gz PackageFileSize: 54.64 KiB