Package: BiocHubsShiny Version: 1.7.4 Command: /Library/Frameworks/R.framework/Resources/bin/R CMD check --install=check:BiocHubsShiny.install-out.txt --library=/Library/Frameworks/R.framework/Resources/library --no-vignettes --timings BiocHubsShiny_1.7.4.tar.gz StartedAt: 2025-02-12 18:16:17 -0500 (Wed, 12 Feb 2025) EndedAt: 2025-02-12 18:17:06 -0500 (Wed, 12 Feb 2025) EllapsedTime: 49.3 seconds RetCode: 0 Status: OK CheckDir: BiocHubsShiny.Rcheck Warnings: 0