Package: BiocHubsShiny Version: 1.7.4 Command: /Library/Frameworks/R.framework/Resources/bin/R CMD build --keep-empty-dirs --no-resave-data BiocHubsShiny StartedAt: 2025-02-09 16:02:40 -0500 (Sun, 09 Feb 2025) EndedAt: 2025-02-09 16:03:05 -0500 (Sun, 09 Feb 2025) EllapsedTime: 25.2 seconds RetCode: 0 Status: OK PackageFile: BiocHubsShiny_1.7.4.tar.gz PackageFileSize: 1.603 MiB