Package: BiocHubsShiny Version: 1.7.4 Command: /home/biocbuild/bbs-3.21-bioc/R/bin/R CMD INSTALL BiocHubsShiny StartedAt: 2025-02-12 15:26:30 -0500 (Wed, 12 Feb 2025) EndedAt: 2025-02-12 15:26:44 -0500 (Wed, 12 Feb 2025) EllapsedTime: 14.9 seconds RetCode: 0 Status: OK