Package: BiocHubsShiny Version: 1.7.4 Command: rm -rf BiocHubsShiny.buildbin-libdir && mkdir BiocHubsShiny.buildbin-libdir && E:\biocbuild\bbs-3.21-bioc\R\bin\R.exe CMD INSTALL --build --library=BiocHubsShiny.buildbin-libdir BiocHubsShiny_1.7.4.tar.gz StartedAt: 2025-02-10 07:17:44 -0500 (Mon, 10 Feb 2025) EndedAt: 2025-02-10 07:18:08 -0500 (Mon, 10 Feb 2025) EllapsedTime: 24.8 seconds RetCode: 0 Status: OK PackageFile: BiocHubsShiny_1.7.4.zip PackageFileSize: 743.6 KiB