Package: BiocHubsShiny Version: 1.7.4 Command: E:\biocbuild\bbs-3.21-bioc\R\bin\R.exe CMD INSTALL BiocHubsShiny StartedAt: 2025-02-12 15:52:18 -0500 (Wed, 12 Feb 2025) EndedAt: 2025-02-12 15:52:39 -0500 (Wed, 12 Feb 2025) EllapsedTime: 21.2 seconds RetCode: 0 Status: OK