Package: BiocNeighbors Version: 2.1.2 Command: /Library/Frameworks/R.framework/Resources/bin/R CMD INSTALL BiocNeighbors StartedAt: 2025-02-09 15:01:40 -0500 (Sun, 09 Feb 2025) EndedAt: 2025-02-09 15:01:52 -0500 (Sun, 09 Feb 2025) EllapsedTime: 11.7 seconds RetCode: 0 Status: OK