Package: BiocNeighbors Version: 2.1.2 Command: /Library/Frameworks/R.framework/Resources/bin/R CMD check --install=check:BiocNeighbors.install-out.txt --library=/Library/Frameworks/R.framework/Resources/library --no-vignettes --timings BiocNeighbors_2.1.2.tar.gz StartedAt: 2025-02-09 19:18:58 -0500 (Sun, 09 Feb 2025) EndedAt: 2025-02-09 19:19:41 -0500 (Sun, 09 Feb 2025) EllapsedTime: 42.5 seconds RetCode: 0 Status: OK CheckDir: BiocNeighbors.Rcheck Warnings: 0