Package: BiocNeighbors Version: 2.1.2 Command: /home/biocbuild/bbs-3.21-bioc/R/bin/R CMD check --install=check:BiocNeighbors.install-out.txt --library=/home/biocbuild/bbs-3.21-bioc/R/site-library --timings BiocNeighbors_2.1.2.tar.gz StartedAt: 2025-02-09 20:24:06 -0500 (Sun, 09 Feb 2025) EndedAt: 2025-02-09 20:24:44 -0500 (Sun, 09 Feb 2025) EllapsedTime: 38.0 seconds RetCode: 0 Status: OK CheckDir: BiocNeighbors.Rcheck Warnings: 0