Package: BiocNeighbors Version: 2.1.2 Command: /home/biocbuild/bbs-3.21-bioc/R/bin/R CMD INSTALL BiocNeighbors StartedAt: 2025-02-12 15:03:34 -0500 (Wed, 12 Feb 2025) EndedAt: 2025-02-12 15:04:18 -0500 (Wed, 12 Feb 2025) EllapsedTime: 44.0 seconds RetCode: 0 Status: OK