Package: BiocNeighbors Version: 2.1.2 Command: rm -rf BiocNeighbors.buildbin-libdir && mkdir BiocNeighbors.buildbin-libdir && E:\biocbuild\bbs-3.21-bioc\R\bin\R.exe CMD INSTALL --build --library=BiocNeighbors.buildbin-libdir BiocNeighbors_2.1.2.tar.gz StartedAt: 2025-02-10 07:17:57 -0500 (Mon, 10 Feb 2025) EndedAt: 2025-02-10 07:19:49 -0500 (Mon, 10 Feb 2025) EllapsedTime: 112.1 seconds RetCode: 0 Status: OK PackageFile: BiocNeighbors_2.1.2.zip PackageFileSize: 1.003 MiB