Package: BiocNeighbors Version: 2.1.2 Command: chmod a+r BiocNeighbors -R && E:\biocbuild\bbs-3.21-bioc\R\bin\R.exe CMD build --keep-empty-dirs --no-resave-data BiocNeighbors StartedAt: 2025-02-09 17:28:58 -0500 (Sun, 09 Feb 2025) EndedAt: 2025-02-09 17:30:48 -0500 (Sun, 09 Feb 2025) EllapsedTime: 110.6 seconds RetCode: 0 Status: OK PackageFile: BiocNeighbors_2.1.2.tar.gz PackageFileSize: 328.8 KiB