Package: BiocNeighbors Version: 2.1.2 Command: E:\biocbuild\bbs-3.21-bioc\R\bin\R.exe CMD check --no-multiarch --install=check:BiocNeighbors.install-out.txt --library=E:\biocbuild\bbs-3.21-bioc\R\library --no-vignettes --timings BiocNeighbors_2.1.2.tar.gz StartedAt: 2025-02-12 23:08:45 -0500 (Wed, 12 Feb 2025) EndedAt: 2025-02-12 23:09:45 -0500 (Wed, 12 Feb 2025) EllapsedTime: 60.6 seconds RetCode: 0 Status: WARNINGS CheckDir: BiocNeighbors.Rcheck Warnings: 1