Package: BiocNeighbors Version: 2.1.2 Command: E:\biocbuild\bbs-3.21-bioc\R\bin\R.exe CMD INSTALL BiocNeighbors StartedAt: 2025-02-09 15:21:32 -0500 (Sun, 09 Feb 2025) EndedAt: 2025-02-09 15:26:25 -0500 (Sun, 09 Feb 2025) EllapsedTime: 292.9 seconds RetCode: 0 Status: OK