Package: BiocParallel Version: 1.41.0 Command: /home/biocbuild/R/R/bin/R CMD check --install=check:BiocParallel.install-out.txt --library=/home/biocbuild/R/R/site-library --no-vignettes --timings BiocParallel_1.41.0.tar.gz StartedAt: 2025-01-28 03:54:07 -0000 (Tue, 28 Jan 2025) EndedAt: 2025-01-28 08:30:18 -0000 (Tue, 28 Jan 2025) EllapsedTime: 16570.3 seconds RetCode: None Status: TIMEOUT CheckDir: BiocParallel.Rcheck Warnings: NA